BEGIN:VCALENDAR
VERSION:2.0
PRODID:-//高松 THIRD STONE - ECPv6.15.12.2//NONSGML v1.0//EN
CALSCALE:GREGORIAN
METHOD:PUBLISH
X-WR-CALNAME:高松 THIRD STONE
X-ORIGINAL-URL:https://thirdstone.info
X-WR-CALDESC:高松 THIRD STONE のイベント
REFRESH-INTERVAL;VALUE=DURATION:PT1H
X-Robots-Tag:noindex
X-PUBLISHED-TTL:PT1H
BEGIN:VTIMEZONE
TZID:Asia/Tokyo
BEGIN:STANDARD
TZOFFSETFROM:+0900
TZOFFSETTO:+0900
TZNAME:JST
DTSTART:20250101T000000
END:STANDARD
END:VTIMEZONE
BEGIN:VEVENT
DTSTART;TZID=Asia/Tokyo:20260517T183000
DTEND;TZID=Asia/Tokyo:20260517T220000
DTSTAMP:20260424T020100
CREATED:20260422T125452Z
LAST-MODIFIED:20260422T125452Z
UID:803-1779042600-1779055200@thirdstone.info
SUMMARY:オープンマイク guest. 出家ミュージシャンSHO-JIN
DESCRIPTION:高松THIRD STONE オープンマイク guest. 出家ミュージシャンSHO-JIN \n2026年5月17日(日)\nOPEN 18:00   START 18:30\n入場料: 500- + 投げ銭 (Drink別) \n※当日は店内禁煙とさせていただきます。（外に喫煙所あり） \nお問い合わせ高松THIRD STONE\n香川県高松市東山崎町387-5\nTEL 087-847-5891 \nSHO-JIN プロフィール \n出家ミュージシャンの異名で佐賀県を中心に活動中。 56才で仏門の扉を叩き、得度出家。 2023年、全曲オリジナルアルバム、「出家ミュージシャン」をリリース。 2024〜2025、「ギャラはいらないから、家泊めてくれ、飯食わせてくれ、CD買ってくれ！」をテーマに托鉢スタイルで、全国68ヶ所の町を遊行。お布施の一部を奥能登豪雨災害義援金として喜捨する。
URL:https://thirdstone.info/event/%e3%82%aa%e3%83%bc%e3%83%97%e3%83%b3%e3%83%9e%e3%82%a4%e3%82%af-guest-%e5%87%ba%e5%ae%b6%e3%83%9f%e3%83%a5%e3%83%bc%e3%82%b8%e3%82%b7%e3%83%a3%e3%83%b3sho-jin/
LOCATION:高松THIRD STONE\, 387-5\, 高松市東山崎町\, 香川県\, 761-0312\, Japan
CATEGORIES:音楽ライブ
ATTACH;FMTTYPE=image/jpeg:https://thirdstone.info/wp-content/uploads/2026/04/2026.05.17-sho-jin-scaled.jpg
END:VEVENT
END:VCALENDAR