BEGIN:VCALENDAR
VERSION:2.0
PRODID:-//高松 THIRD STONE - ECPv6.15.12.2//NONSGML v1.0//EN
CALSCALE:GREGORIAN
METHOD:PUBLISH
X-WR-CALNAME:高松 THIRD STONE
X-ORIGINAL-URL:https://thirdstone.info
X-WR-CALDESC:高松 THIRD STONE のイベント
REFRESH-INTERVAL;VALUE=DURATION:PT1H
X-Robots-Tag:noindex
X-PUBLISHED-TTL:PT1H
BEGIN:VTIMEZONE
TZID:Asia/Tokyo
BEGIN:STANDARD
TZOFFSETFROM:+0900
TZOFFSETTO:+0900
TZNAME:JST
DTSTART:20250101T000000
END:STANDARD
END:VTIMEZONE
BEGIN:VEVENT
DTSTART;TZID=Asia/Tokyo:20260530T193000
DTEND;TZID=Asia/Tokyo:20260530T220000
DTSTAMP:20260424T020238
CREATED:20260422T135238Z
LAST-MODIFIED:20260422T135238Z
UID:809-1780169400-1780178400@thirdstone.info
SUMMARY:東山崎万博
DESCRIPTION:東山崎万博 \n2026年5月30日(土)\nOPEN 19:00   START 19:30\nCharge: ¥1\,500- (Drink別)\nAct: 森田雅章\, 宅嶋淳\, 三井未来\, サンドマン \nお問い合わせ\n高松THIRD STONE\n香川県高松市東山崎町387-5\nTEL 087-847-5891
URL:https://thirdstone.info/event/%e6%9d%b1%e5%b1%b1%e5%b4%8e%e4%b8%87%e5%8d%9a/
LOCATION:高松THIRD STONE\, 387-5\, 高松市東山崎町\, 香川県\, 761-0312\, Japan
CATEGORIES:音楽ライブ
ATTACH;FMTTYPE=image/jpeg:https://thirdstone.info/wp-content/uploads/2026/04/2026.05.30-東山崎万博-scaled.jpg
END:VEVENT
END:VCALENDAR